BEGIN:VCALENDAR
VERSION:2.0
PRODID:-//ChamberMaster//Event Calendar 2.0//EN
METHOD:PUBLISH
X-PUBLISHED-TTL:P1H
REFRESH-INTERVAL:P1H
CALSCALE:GREGORIAN
BEGIN:VTIMEZONE
TZID:America/Chicago
BEGIN:DAYLIGHT
RRULE:FREQ=YEARLY;BYMONTH=3;BYDAY=2SU
DTSTART:20070101T000000
TZOFFSETFROM:-0600
TZOFFSETTO:-0500
TZNAME:Central Daylight Time
END:DAYLIGHT
BEGIN:STANDARD
RRULE:FREQ=YEARLY;BYMONTH=11;BYDAY=1SU
DTSTART:20070101T000000
TZOFFSETFROM:-0500
TZOFFSETTO:-0600
TZNAME:Central Standard Time
END:STANDARD
END:VTIMEZONE
BEGIN:VEVENT
DTSTART;TZID=America/Chicago:20260609T180000
DTEND;TZID=America/Chicago:20260609T210043
X-MICROSOFT-CDO-ALLDAYEVENT:FALSE
SUMMARY:Sales Fundamentals: Prospecting to the Close
DESCRIPTION:We all sell\, at all times\, in every area of our lives. Selling today is all about relationships and partnering to create value for the potential client. This one-day workshop is designed for small business owners\, independent contractors\, entrepreneurs\, students and those who are seeking to learn the skill set of selling. We will explore how to fill your sales funnel\, how to develop your networking skills for business engagement\, how to effectively communicate with your buyer and how to conduct a sales presentation. Learn how to create and write your own elevator pitch. Learn how to ask probing questions to discover the needs of your buyer. Learn the art of closing the sale and how to grow a long-term relationship with your client.\n\nLearn more: https://www.enrole.com/jjc/jsp/session.jsp?sessionId=SM26.OE.MGT.2034.T1&courseId=MGT.2034&categoryId=
X-ALT-DESC;FMTTYPE=text/html:<!DOCTYPE html><html><head><title></title></head><body aria-disabled="false"><p>We all sell\, at all times\, in every area of our lives. Selling today is all about relationships and partnering to create value for the potential client. This one-day workshop is designed for small business owners\, independent contractors\, entrepreneurs\, students and those who are seeking to learn the skill set of selling. We will explore how to fill your sales funnel\, how to develop your networking skills for business engagement\, how to effectively communicate with your buyer and how to conduct a sales presentation. Learn how to create and write your own elevator pitch. Learn how to ask probing questions to discover the needs of your buyer. Learn the art of closing the sale and how to grow a long-term relationship with your client.<br><br>Learn more:&nbsp\;<a fr-original-style="" href="https://www.enrole.com/jjc/jsp/session.jsp?sessionId=SM26.OE.MGT.2034.T1&courseId=MGT.2034&categoryId=" style="user-select: auto\;">https://www.enrole.com/jjc/jsp/session.jsp?sessionId=SM26.OE.MGT.2034.T1&amp\;courseId=MGT.2034&amp\;categoryId=</a></p></body></html>
LOCATION:1215 Houbolt Dr. T-2002 Classroom Joliet 60431
UID:e.1532.1450768
SEQUENCE:3
DTSTAMP:20260424T235937Z
URL:https://members.naperville.net/businessafterhourseventcalendar/Details/sales-fundamentals-prospecting-to-the-close-1718418?sourceTypeId=Hub
END:VEVENT
END:VCALENDAR
